BEGIN:VCALENDAR
VERSION:2.0
PRODID:-//wp-events-plugin.com//7.2.3.1//EN
TZID:Europe/Amsterdam
X-WR-TIMEZONE:Europe/Amsterdam
BEGIN:VEVENT
UID:10@zwollezuidnieuws.nl
DTSTART;TZID=Europe/Amsterdam:20260315T140000
DTEND;TZID=Europe/Amsterdam:20260315T183000
DTSTAMP:20260207T143131Z
URL:https://zwollezuidnieuws.nl/agenda/regionaal-dance-event
SUMMARY:Regionaal Dance Event
DESCRIPTION:Op zondag 15 maart organiseert SportService Zwolle\, in samenwe
 rking met het Lucia Marthas Institute for Performing Arts\, het Regionaal 
 Dance Event. Tijdens deze inspirerende dansmiddag bij On Campus Windesheim
  komen beginnende dansers en jong danstalent uit Zwolle en de regio samen 
 voor workshops\, dansplezier en een spectaculaire show.\n\nHet Regionaal D
 ance Event is toegankelijk voor zowel recreatieve dansers als talentvolle 
 dansers. De recreatiegroepen krijgen een workshop dans/musical\, terwijl t
 alenten vanaf groep 5 en het voortgezet onderwijs kunnen kiezen uit modern
  jazz of hiphop fusion. Alle workshops worden verzorgd door professionele 
 dansdocenten van het Lucia Marthas Institute for Performing Arts.\nSpectac
 ulaire dansshow\nEen absoluut hoogtepunt van de middag is de dansshow van 
 de dansers van het Lucia Marthas Institute for Performing Arts. Deze show 
 vindt plaats om 15.15 uur en laat zien wat er mogelijk is met passie\, dis
 cipline en talent.\nProgramma-overzicht\nHet programma start om 14.00 uur 
 met workshops voor basisschool groepen 1 tot en met 5. Om 15.30 uur staat 
 de Koningsspelendans voor jong en oud\, met of zonder beperking\, op het p
 rogramma. In de namiddag volgen workshops voor basisschool groepen 6 tot e
 n met 8 en twee workshops voor talenten vanaf groep 5 en het voortgezet on
 derwijs. Het evenement duurt tot 18.30 uur.\nDeelname\nDe kosten voor deze
  dansmiddag bedragen €5\,- voor recreatiedansers en €7\,50 voor talent
 en. De koningsspelen dans is gratis toegankelijk! Dankzij de ondersteuning
  van Sportakkoord\, SportService Zwolle\, Windesheim Zwolle en het Lucia M
 arthas Institute for Performing Arts blijft deelname voor iedereen betaalb
 aar.\nAanmelden\nRecreatieve dansers kunnen zich aanmelden via de QR-code 
 op de flyer of op www.sportservicezwolle.nl/sportagenda. Talenten schrijve
 n zich in via hun eigen dansschool.\nTweede editie met regionale ambitie\n
 Organisator Janita Kist (SportService Zwolle) kijkt uit naar de tweede edi
 tie: “We hopen naast dansers uit Zwolle ook veel dansers uit de regio te
  verwelkomen. Het Regionaal Dance Event is een mooie manier om jongeren te
  inspireren en met elkaar te verbinden door dans.”\n\nZondag 15 maart 
 – On Campus Windesheim\, Zwolle\nTrek je dansschoenen aan en beleef een 
 middag vol energie\, creativiteit en dansplezier. Tot dan(s)!
ATTACH;FMTTYPE=image/jpeg:https://zwollezuidnieuws.nl/wp-content/uploads/2
 026/02/Sportservice-Dance-Event-Zwolle-02052025_49A1251-1.jpg
LOCATION:On Campus\, Hogeschool Windesheim\, Campus 2-6\, Zwolle\, Nederlan
 d
GEO:52.499592;6.079568
X-APPLE-STRUCTURED-LOCATION;VALUE=URI;X-ADDRESS=Campus 2-6\, Zwolle\, Neder
 land;X-APPLE-RADIUS=100;X-TITLE=On Campus\, Hogeschool Windesheim:geo:52.4
 99592,6.079568
END:VEVENT
BEGIN:VTIMEZONE
TZID:Europe/Amsterdam
X-LIC-LOCATION:Europe/Amsterdam
BEGIN:STANDARD
DTSTART:20251026T020000
TZOFFSETFROM:+0200
TZOFFSETTO:+0100
TZNAME:CET
END:STANDARD
END:VTIMEZONE
END:VCALENDAR